BEGIN:VCALENDAR
VERSION:2.0
PRODID:-//172.67.166.98//NONSGML kigkonsult.se iCalcreator 2.26.9//
CALSCALE:GREGORIAN
METHOD:PUBLISH
X-FROM-URL:https://www.anglevaletavern.com.au
X-WR-TIMEZONE:Australia/Adelaide
BEGIN:VTIMEZONE
TZID:Australia/Adelaide
X-LIC-LOCATION:Australia/Adelaide
BEGIN:STANDARD
DTSTART:20210404T030000
TZOFFSETFROM:+1030
TZOFFSETTO:+0930
RDATE:20220403T030000
TZNAME:ACST
END:STANDARD
BEGIN:DAYLIGHT
DTSTART:20201004T020000
TZOFFSETFROM:+0930
TZOFFSETTO:+1030
RDATE:20211003T020000
TZNAME:ACDT
END:DAYLIGHT
END:VTIMEZONE
BEGIN:VEVENT
UID:ai1ec-590@www.anglevaletavern.com.au
DTSTAMP:20210227T114919Z
CATEGORIES:
CONTACT:
DESCRIPTION:Test  Event
DTSTART;TZID=Australia/Adelaide:20190518T021100
DTEND;TZID=Australia/Adelaide:20190518T031100
SEQUENCE:0
SUMMARY:Test
URL:https://www.anglevaletavern.com.au/event/test/
X-COST-TYPE:free
X-ALT-DESC;FMTTYPE=text/html:<!DOCTYPE HTML PUBLIC '-//W3C//DTD HTML 3.2//E
 N'>\\n<HTML>\\n<HEAD>\\n<TITLE></TITLE>\\n</HEAD>\\n<BODY><p>Test  Event</
 p>\n</BODY></HTML>
END:VEVENT
END:VCALENDAR
